{"text_format":"2","workbook":"xlsx","n_sheets":9,"sheets":["Total","meuble","Cuve","Tuyauterie","electroAqua","Electricité","Eclairages","substrat + PVs","Sels+eau"],"not_rendered":{"charts":0,"images":0,"macros":0,"external_links":0,"defined_names":0,"comments":0,"pivot_tables":0},"unopened":[],"bounds":{"document_bytes":16777216,"sheet_cells":100000,"run_cost":"one","rows_first":2000,"rows_last":500,"rows_between":2000,"halvings":0,"cell_chars":16384,"cell_head_chars":4096},"cells_cut":0,"cells_raw":0,"read":"whole","date_system":"1900"}

{"sheet":"Total","index":0,"n_rows":16,"n_cols":13,"rows_kept":16,"cut":false,"hidden":false,"merged":[]}
["Nom","Total",{"$nulls":4},"Dimention","Meuble","Cuve","Decante"]
["Meuble",{"$f":"meuble!E21","v":0},{"$nulls":4},"L",1800,2000,1500]
["Cuve",{"$f":"Cuve!E21","v":0},{"$nulls":4},"l",700,800,800]
["Tuyauterie",{"$f":"Tuyauterie!E21","v":0},{"$nulls":4},"H",1000,700,800]
["Electricité",{"$f":"Electricité!E21","v":0},{"$nulls":9},"Changement d'eau","kg de sel"]
["Eclairages",{"$f":"Eclairages!E21","v":0},{"$nulls":6},{"$f":"(I2*I3*I4)/1000000","v":1120},{"$f":"(J2*J3*J4)/1000000","v":960},{"$f":"I6+J6","v":2080},{"$f":"K6*0.1","v":208},{"$f":"L6*0.035","v":7.2800000000000011}]
["ElectroAqua",{"$f":"electroAqua!E21","v":0}]
["Substrat + Pvs",{"$f":"'substrat + PVs'!E21","v":1832.98}]
["sels+eau",{"$f":"'Sels+eau'!E21","v":124.30000000000001}]
[]
[]
[]
[]
[]
["Total",{"$f":"SUM(B2:B7)","v":0},"Prix redsea",6500]
["Total avec pierre",{"$f":"SUM(B2:B9)","v":1957.28},"diff redsea",{"$f":"D15-SUM(B2:B7)","v":6500}]

{"sheet":"meuble","index":1,"n_rows":21,"n_cols":8,"rows_kept":21,"cut":false,"hidden":false,"merged":[]}
["Matériels","Ref","PU","Nombre","total","Remarques","Site","Date D'achat"]
["Peinture",null,null,null,{"$f":"D2*C2","v":0}]
["Contreplaqué",null,null,null,0]
["structue alu",null,null,null,0]
["mousse",null,null,null,0,null,"https://www.artapisserie.fr/mousse-sur-resille/1625-mousse-contact-sur-resille-de-5mm.html"]
[{"$nulls":4},0]
[{"$nulls":4},0]
[{"$nulls":4},0]
[{"$nulls":4},0]
[{"$nulls":4},0]
[{"$nulls":4},0]
[{"$nulls":4},0]
[{"$nulls":4},0]
[{"$nulls":4},0]
[{"$nulls":4},0]
[{"$nulls":4},0]
[{"$nulls":4},0]
[{"$nulls":4},0]
[{"$nulls":4},0]
[{"$nulls":4},0]
[null,null,null,"Total",{"$f":"SUM(E2:E20)","v":0}]

{"sheet":"Cuve","index":2,"n_rows":21,"n_cols":8,"rows_kept":21,"cut":false,"hidden":false,"merged":[]}
["Matériels","Ref","PU","Nombre","total","Remarques","Site","Date D'achat"]
["Cuve aquarium","12mm",null,null,{"$f":"D2*C2","v":0}]
["Cuve decante",null,null,null,0]
["cuve changement",null,null,null,0]
[{"$nulls":4},0]
[{"$nulls":4},0]
[{"$nulls":4},0]
[{"$nulls":4},0]
[{"$nulls":4},0]
[{"$nulls":4},0]
[{"$nulls":4},0]
[{"$nulls":4},0]
[{"$nulls":4},0]
[{"$nulls":4},0]
[{"$nulls":4},0]
[{"$nulls":4},0]
[{"$nulls":4},0]
[{"$nulls":4},0]
[{"$nulls":4},0]
[{"$nulls":4},0]
[null,null,null,"Total",{"$f":"SUM(E2:E20)","v":0}]

{"sheet":"Tuyauterie","index":3,"n_rows":21,"n_cols":8,"rows_kept":21,"cut":false,"hidden":false,"merged":[]}
["Matériels","Ref","PU","Nombre","total","Remarques","Site","Date D'achat"]
[{"$nulls":4},{"$f":"D2*C2","v":0}]
[{"$nulls":4},0]
[{"$nulls":4},0]
[{"$nulls":4},0]
[{"$nulls":4},0]
[{"$nulls":4},0]
[{"$nulls":4},0]
[{"$nulls":4},0]
[{"$nulls":4},0]
[{"$nulls":4},0]
[{"$nulls":4},0]
[{"$nulls":4},0]
[{"$nulls":4},0]
[{"$nulls":4},0]
[{"$nulls":4},0]
[{"$nulls":4},0]
[{"$nulls":4},0]
[{"$nulls":4},0]
[{"$nulls":4},0]
[null,null,null,"Total",{"$f":"SUM(E2:E20)","v":0}]

{"sheet":"electroAqua","index":4,"n_rows":21,"n_cols":8,"rows_kept":21,"cut":false,"hidden":false,"merged":[]}
["Matériels","Ref","PU","Nombre","total","Remarques","Site","Date D'achat"]
["Pompe de brassage",null,null,null,{"$f":"D2*C2","v":0}]
["Chauffage",null,null,null,0]
["Ecumeur",null,null,null,0]
["Pompe de remonté",null,null,null,0]
[{"$nulls":4},0]
[{"$nulls":4},0]
[{"$nulls":4},0]
[{"$nulls":4},0]
[{"$nulls":4},0]
[{"$nulls":4},0]
[{"$nulls":4},0]
[{"$nulls":4},0]
[{"$nulls":4},0]
[{"$nulls":4},0]
[{"$nulls":4},0]
[{"$nulls":4},0]
[{"$nulls":4},0]
[{"$nulls":4},0]
[{"$nulls":4},0]
[null,null,null,"Total",{"$f":"SUM(E2:E20)","v":0}]

{"sheet":"Electricité","index":5,"n_rows":21,"n_cols":8,"rows_kept":21,"cut":false,"hidden":false,"merged":[]}
["Matériels","Ref","PU","Nombre","total","Remarques","Site","Date D'achat"]
[{"$nulls":4},{"$f":"D2*C2","v":0}]
[{"$nulls":4},0]
[{"$nulls":4},0]
[{"$nulls":4},0]
[{"$nulls":4},0]
[{"$nulls":4},0]
[{"$nulls":4},0]
[{"$nulls":4},0]
[{"$nulls":4},0]
[{"$nulls":4},0]
[{"$nulls":4},0]
[{"$nulls":4},0]
[{"$nulls":4},0]
[{"$nulls":4},0]
[{"$nulls":4},0]
[{"$nulls":4},0]
[{"$nulls":4},0]
[{"$nulls":4},0]
[{"$nulls":4},0]
[null,null,null,"Total",{"$f":"SUM(E2:E20)","v":0}]

{"sheet":"Eclairages","index":6,"n_rows":21,"n_cols":8,"rows_kept":21,"cut":false,"hidden":false,"merged":[]}
["Matériels","Ref","PU","Nombre","total","Remarques","Site","Date D'achat"]
["Leds",null,null,null,{"$f":"D2*C2","v":0}]
["Regle aluminium",null,null,null,0]
["Alimentation 12V",null,null,null,0]
["PCB",null,null,null,0]
["Resistance",null,null,null,0]
[{"$nulls":4},0]
[{"$nulls":4},0]
[{"$nulls":4},0]
[{"$nulls":4},0]
[{"$nulls":4},0]
[{"$nulls":4},0]
[{"$nulls":4},0]
[{"$nulls":4},0]
[{"$nulls":4},0]
[{"$nulls":4},0]
[{"$nulls":4},0]
[{"$nulls":4},0]
[{"$nulls":4},0]
[{"$nulls":4},0]
[null,null,null,"Total",{"$f":"SUM(E2:E20)","v":0}]

{"sheet":"substrat + PVs","index":7,"n_rows":21,"n_cols":8,"rows_kept":21,"cut":false,"hidden":false,"merged":[]}
["Matériels","Ref","PU","Nombre","total","Remarques","Site","Date D'achat"]
["PV vivant","50% de 90 KG",29.9,45,{"$f":"D2*C2","v":1345.5},null,"Marinehome"]
["PV morte","50% de 90 KG",9.9,45,445.5,null,"Marinehome"]
["sable","bali bali 0,5mm 1,2mm",20.99,2,41.98,null,"Marinehome"]
[{"$nulls":4},0]
[{"$nulls":4},0]
[{"$nulls":4},0]
[{"$nulls":4},0]
[{"$nulls":4},0]
[{"$nulls":4},0]
[{"$nulls":4},0]
[{"$nulls":4},0]
[{"$nulls":4},0]
[{"$nulls":4},0]
[{"$nulls":4},0]
[{"$nulls":4},0]
[{"$nulls":4},0]
[{"$nulls":4},0]
[{"$nulls":4},0]
[{"$nulls":4},0]
[null,null,null,"Total",{"$f":"SUM(E2:E20)","v":1832.98}]

{"sheet":"Sels+eau","index":8,"n_rows":21,"n_cols":8,"rows_kept":21,"cut":false,"hidden":false,"merged":[]}
["Matériels","Ref","PU","Nombre","total","Remarques","Site","Date D'achat"]
["Sel",null,2.2000000000000002,31.5,{"$f":"C2*D2","v":69.300000000000011},"35g/L => 1025 200L=> 7Kg","Marine home"]
["osmoseur",null,55,1,{"$f":"D3*C3","v":55},"380L jour","Aqua-store"]
[{"$nulls":4},0]
[{"$nulls":4},0]
[{"$nulls":4},0]
[{"$nulls":4},0]
[{"$nulls":4},0]
[{"$nulls":4},0]
[{"$nulls":4},0]
[{"$nulls":4},0]
[{"$nulls":4},0]
[{"$nulls":4},0]
[{"$nulls":4},0]
[{"$nulls":4},0]
[{"$nulls":4},0]
[{"$nulls":4},0]
[{"$nulls":4},0]
[{"$nulls":4},0]
[{"$nulls":4},0]
[null,null,null,"Total",{"$f":"SUM(E2:E20)","v":124.30000000000001}]